BEGIN:VCALENDAR
VERSION:2.0
PRODID:-//Artigues pres Bordeaux - ECPv6.0.7.1//NONSGML v1.0//EN
CALSCALE:GREGORIAN
METHOD:PUBLISH
X-WR-CALNAME:Artigues pres Bordeaux
X-ORIGINAL-URL:https://www.artigues-pres-bordeaux.fr
X-WR-CALDESC:Events for Artigues pres Bordeaux
REFRESH-INTERVAL;VALUE=DURATION:PT1H
X-Robots-Tag:noindex
X-PUBLISHED-TTL:PT1H
BEGIN:VTIMEZONE
TZID:Europe/Paris
BEGIN:DAYLIGHT
TZOFFSETFROM:+0100
TZOFFSETTO:+0200
TZNAME:CEST
DTSTART:20250330T010000
END:DAYLIGHT
BEGIN:STANDARD
TZOFFSETFROM:+0200
TZOFFSETTO:+0100
TZNAME:CET
DTSTART:20251026T010000
END:STANDARD
END:VTIMEZONE
BEGIN:VEVENT
DTSTART;TZID=Europe/Paris:20250913T100000
DTEND;TZID=Europe/Paris:20250913T170000
DTSTAMP:20260426T004243
CREATED:20250902T125252Z
LAST-MODIFIED:20250903T144553Z
UID:23673-1757757600-1757782800@www.artigues-pres-bordeaux.fr
SUMMARY:ecoatelier-rucher
DESCRIPTION:ECO ATELIER\nL’association « Les Jardiniers des Coteaux » vous propose une journée en immersion au cœur du monde fascinant des abeilles ! 🐝 \n👉 Venez visiter le rucher pédagogique de la Ville\, en apprendre plus sur les différents types d’abeilles et leurs cycles de vie\, découvrir les outils de l’apiculteur… 🛠 \nEntrée libre et gratuite (session d’une heure par petit groupe) \nRendez-vous le samedi 13 septembre au château Lestrille de 10h à 12h et de 14h30 à 17h
URL:https://www.artigues-pres-bordeaux.fr/evenement/ecoatelier-rucher/
LOCATION:Château Lestrille\, Château Lestrille\, Artigues-près-Bordeaux\, 33370\, France
ATTACH;FMTTYPE=image/jpeg:https://www.artigues-pres-bordeaux.fr/wp-content/uploads/2025/09/base_eco_atelier_rucher.jpg
END:VEVENT
END:VCALENDAR