BEGIN:VCALENDAR
VERSION:2.0
PRODID:-//Artigues pres Bordeaux - ECPv6.0.7.1//NONSGML v1.0//EN
CALSCALE:GREGORIAN
METHOD:PUBLISH
X-WR-CALNAME:Artigues pres Bordeaux
X-ORIGINAL-URL:https://www.artigues-pres-bordeaux.fr
X-WR-CALDESC:Events for Artigues pres Bordeaux
REFRESH-INTERVAL;VALUE=DURATION:PT1H
X-Robots-Tag:noindex
X-PUBLISHED-TTL:PT1H
BEGIN:VTIMEZONE
TZID:Europe/Paris
BEGIN:DAYLIGHT
TZOFFSETFROM:+0100
TZOFFSETTO:+0200
TZNAME:CEST
DTSTART:20250330T010000
END:DAYLIGHT
BEGIN:STANDARD
TZOFFSETFROM:+0200
TZOFFSETTO:+0100
TZNAME:CET
DTSTART:20251026T010000
END:STANDARD
END:VTIMEZONE
BEGIN:VEVENT
DTSTART;TZID=Europe/Paris:20250613T200000
DTEND;TZID=Europe/Paris:20250613T200000
DTSTAMP:20260426T003941
CREATED:20240923T091605Z
LAST-MODIFIED:20250526T143356Z
UID:19841-1749844800-1749844800@www.artigues-pres-bordeaux.fr
SUMMARY:festival-des-tres-courts
DESCRIPTION:FESTIVAL DES TRÈS COURTS\nINTERNATIONAL FILM FESTIVAL\nCréé à Paris en 1999\, le « Très Court » est un festival dédié aux films de moins de 4 minutes. Chaque année\, à travers plusieurs sélections thématiques et une multitude de genres\, il met en compétition une centaine de créations plus inventives les unes que les autres. Sa particularité est qu’il se déroule dans le monde entier : pendant 10 jours\, les courts-métrages en lice sont projetés simultanément dans une dizaine de villes en France et près de 50 à l’étranger !  \n\nVendredi 13 juin\, à 20h\, le Cuvier de Feydeau accueillera le programme phare du festival : la compétition internationale. Pendant près de 2h\, une quarantaine de « très courts » inspirés des derniers courants de la création cinématographique mondiale seront diffusés sur grand écran. À l’issue de la projection\, le public sera invité à voter pour ses films favoris. Ses voix s’ajouteront à celles d’un jury composé de professionnels du cinéma chargé de récompenser les lauréats lors d’une grande soirée de clôture organisée à Paris. Venez profiter de ce fantastique programme de deux heures (avec entracte) et partager vos coups de cœur ! \n\nRetrouvez également la sélection familiale et Paroles de Femmes ainsi que le Best Of 2024 du festival en projection libre du 6 au 15 juin à la médiathèque Gabriela Mistral !  \nINSCRIPTIONS POUR LA SOIRÉE DU 13 JUIN :
URL:https://www.artigues-pres-bordeaux.fr/evenement/festival-des-tres-courts/
LOCATION:Le Cuvier de Feydeau\, Le Cuvier\, Artigues-près-Bordeaux\, 33370\, France
ATTACH;FMTTYPE=image/jpeg:https://www.artigues-pres-bordeaux.fr/wp-content/uploads/2024/09/base_tres_courts.jpg
END:VEVENT
END:VCALENDAR